BEGIN:VCALENDAR
VERSION:2.0
PRODID:-//wp-events-plugin.com//7.2.3.1//EN
TZID:Europe/London
X-WR-TIMEZONE:Europe/London
BEGIN:VEVENT
UID:1203@orpingtonliberalclub.co.uk
DTSTART;TZID=Europe/London:20251108T143000
DTEND;TZID=Europe/London:20251108T170000
DTSTAMP:20251020T050433Z
URL:https://orpingtonliberalclub.co.uk/events/andy-smythe-songwriting-work
 shop/
SUMMARY:Andy Smythe - Songwriting Workshop
DESCRIPTION:\nHow is a great song written? What are the secrets? Anyone can
  do it if they know how. right?? Andy will show you what he's learned from
  writing 200 songs\, recording 8 albums\, having Mike Scott of The Waterbo
 ys just turn up at a gig after hearing his song 'Whiskey Priest' and much 
 much more....\n\nWe will analyse song structure and harmony and collaborat
 e to attempt to write a hit song\, we'll then have fun performing 2 songs 
 each and talking through how we wrote them.\n\nIt'll be fun!! The workshop
  is free!\n\nThe CAMRA award-winning bar will be open from 12.30pm. CARD p
 ayments only.\n\nIt’s free entry to OLC members &amp\; £1 to others pay
 able at the bar.\n\n&nbsp\;
CATEGORIES:Music
END:VEVENT
BEGIN:VTIMEZONE
TZID:Europe/London
X-LIC-LOCATION:Europe/London
BEGIN:STANDARD
DTSTART:20251026T010000
TZOFFSETFROM:+0100
TZOFFSETTO:+0000
TZNAME:GMT
END:STANDARD
END:VTIMEZONE
END:VCALENDAR