BEGIN:VCALENDAR
VERSION:2.0
PRODID:-//wp-events-plugin.com//7.2.3.1//EN
TZID:Europe/London
X-WR-TIMEZONE:Europe/London
BEGIN:VEVENT
UID:1205@orpingtonliberalclub.co.uk
DTSTART;TZID=Europe/London:20251129T200000
DTEND;TZID=Europe/London:20251129T223000
DTSTAMP:20251026T061215Z
URL:https://orpingtonliberalclub.co.uk/events/anabolic-steroids/
SUMMARY:Anabollic Steroids
DESCRIPTION:The Boys Are Back In Town Again With Their Two Set Solution!\n\
 nAnabollic Steroids will be playing a two set gig at our pre Stinkmas get 
 together.\n\nProceedings will start with us playing our 'Carry On Stinking
 ' album\, having a break and then playing our 'Happy Nightmares' album wit
 h maybe another added track or two.\n\nProceedings will start around 8 or 
 shortly after and finish around 10 or a bit after. This will give you the 
 chance to travel back up to London or deepest Kent if you've made either o
 f those journeys.\n\nDrinks at the club are well below pub prices. So if y
 ou fancy it come down and join us for a pre Stinkmas jive or a heckle.\n\n
 Tickets wegottickets.com/event/660541\n\nThe club premises &amp\; CAMRA aw
 ard-winning bar opens at 19.00 and is card payments only.\n\nIt's free ent
 ry to OLC Members with a £1 charge to non-members payable at the bar.
CATEGORIES:Music
END:VEVENT
BEGIN:VTIMEZONE
TZID:Europe/London
X-LIC-LOCATION:Europe/London
BEGIN:STANDARD
DTSTART:20251026T010000
TZOFFSETFROM:+0100
TZOFFSETTO:+0000
TZNAME:GMT
END:STANDARD
END:VTIMEZONE
END:VCALENDAR