BEGIN:VCALENDAR
VERSION:2.0
PRODID:-//wp-events-plugin.com//7.2.3.1//EN
TZID:Europe/London
X-WR-TIMEZONE:Europe/London
BEGIN:VEVENT
UID:786@orpingtonliberalclub.co.uk
DTSTART;TZID=Europe/London:20240316T200000
DTEND;TZID=Europe/London:20240316T233000
DTSTAMP:20240227T061103Z
URL:https://orpingtonliberalclub.co.uk/events/anabolic-steriods/
SUMMARY:Anabollic Steroids - SOLD OUT
DESCRIPTION:Gear up for Spring 2024 at our March gig at the Orpington Liber
 al Club. Feel free to dress up in 1982 attire\, when our High Streets were
  a much more colourful place (nice graffiti from yours truly)\, of course 
 not compulsory. Cheap decent quality bar beverages also!\n\nWelcome our ne
 w addition Raven on rhythm guitar and listen to a load of new material as 
 well!! Yes you heard right\, some new songs!! So\, you've got us followed 
 by some terrific tunes being played from '82 across an array of genres to 
 dance to and finish the evening. Could be messy and certainly stinky!! Cur
 few 11:30pm.\n\nThere will be the usual late trains running back to London
 \, and also into deepest Kent.\n\nThe club premises and CAMRA award-winnin
 g bar will be open on the day from 7.00pm.
CATEGORIES:Music,Rock
END:VEVENT
BEGIN:VTIMEZONE
TZID:Europe/London
X-LIC-LOCATION:Europe/London
BEGIN:STANDARD
DTSTART:20231029T010000
TZOFFSETFROM:+0100
TZOFFSETTO:+0000
TZNAME:GMT
END:STANDARD
END:VTIMEZONE
END:VCALENDAR