BEGIN:VCALENDAR
VERSION:2.0
PRODID:-//wp-events-plugin.com//7.2.3.1//EN
TZID:Europe/London
X-WR-TIMEZONE:Europe/London
BEGIN:VEVENT
UID:1294@orpingtonliberalclub.co.uk
DTSTART;TZID=Europe/London:20260117T193000
DTEND;TZID=Europe/London:20260117T223000
DTSTAMP:20251230T052942Z
URL:https://orpingtonliberalclub.co.uk/events/an-evening-with-sevenukes/
SUMMARY:An Evening with Sevenukes
DESCRIPTION:SEVENUKES are a 7 piece ukulele band who have been together for
  over a decade\, playing disco\, rock\, jazz\, pop and more with a wide ra
 nging repertoire from Madonna\, to the Beatles\, Peter Gabriel to the Poin
 ter Sisters &amp\; so much more. You are sure to have a great evening.\n\n
 The fun-packed bill will also include friends Strumthings &amp\; Alien Lov
 e Experience. Plus room for a few floorspots to start if you can get there
  early on the night.\n\nPayment is by donation in CASH with a suggested mi
 nimum of £5. All the proceeds will go to the Maypole Project a fabulous l
 ocal charity which helps support families who have children with complex n
 eeds .So please consider giving a bit more if you can afford it\,\n\nThe c
 lub premises and CAMRA award-winning bar will be open on the day from 7pm.
 \n\nEntry is free to OLC/CAMRA members and £1 for non-members. The bar is
  card payments only\n\n&nbsp\;
CATEGORIES:Music
END:VEVENT
BEGIN:VTIMEZONE
TZID:Europe/London
X-LIC-LOCATION:Europe/London
BEGIN:STANDARD
DTSTART:20251026T010000
TZOFFSETFROM:+0100
TZOFFSETTO:+0000
TZNAME:GMT
END:STANDARD
END:VTIMEZONE
END:VCALENDAR