BEGIN:VCALENDAR
VERSION:2.0
PRODID:-//wp-events-plugin.com//7.2.3.1//EN
TZID:Europe/London
X-WR-TIMEZONE:Europe/London
BEGIN:VEVENT
UID:807@orpingtonliberalclub.co.uk
DTSTART;TZID=Europe/London:20240511T193000
DTEND;TZID=Europe/London:20240511T223000
DTSTAMP:20240419T145704Z
URL:https://orpingtonliberalclub.co.uk/events/ado-matheseon/
SUMMARY:Ado Matheseon
DESCRIPTION:The ever-popular Ado Matheson was raised on the Isle of Lewis\,
  where he retains close links\, but in recent years\, he has been living i
 n the Orpington Area.\n\nHe's a high-quality performer\, a fantastic singe
 r-songwriter\, and a fine interpreter of others' songs.\n\nHis voice and g
 uitar playing complete a wonderful package\, along with a delightful stage
  presence and an ability to draw the audience and fellow musicians into hi
 s performances.\n\nAdo will be including songs from a brand-new album\, "H
 ebridean Heart\," recorded earlier in the year with other island musicians
  at South Dell studio on Lewis.\n\nFrom 7.30 pm until 8.15 pm\, we're open
  to floorspots before the guest comes on to play the first of their two se
 ts. Singers\, musicians\, and poets are all welcome.\n\nA hat collection i
 n cash goes to the guests in its entirety. The suggested minimum contribut
 ion is £6\, but please give a little bit more if you can afford it.\n\nTh
 e club premises and CAMRA award-winning bar will be open on the day from 7
 .00 pm. It's CARD payments only: free entry to OLC members\, £1 to non-me
 mbers.
CATEGORIES:Music
END:VEVENT
BEGIN:VTIMEZONE
TZID:Europe/London
X-LIC-LOCATION:Europe/London
BEGIN:DAYLIGHT
DTSTART:20240331T020000
TZOFFSETFROM:+0000
TZOFFSETTO:+0100
TZNAME:BST
END:DAYLIGHT
END:VTIMEZONE
END:VCALENDAR